BEGIN:VCALENDAR
PRODID:-//eluceo/ical//2.0/EN
VERSION:2.0
CALSCALE:GREGORIAN
BEGIN:VEVENT
UID:fe9e8bef23e927635547b70e6f8f2c5d
DTSTAMP:20260421T022324Z
SUMMARY:Women's Seder presented by Women of Har Shalom
DESCRIPTION:United Jewish Federation of Utah\nCalendar\nhttps://shalomutah.
 org/united-jewish-federation-of-utah-calendar/womens-seder-presented-by-wo
 men-of-har-shalom-1611615035\n\nA Women's Seder with community participati
 on.
DTSTART;TZID=America/Denver:20210401T190000
DTEND;TZID=America/Denver:20210401T200000
END:VEVENT
END:VCALENDAR
