BEGIN:VCALENDAR
PRODID:-//eluceo/ical//2.0/EN
VERSION:2.0
CALSCALE:GREGORIAN
BEGIN:VEVENT
UID:17e9edbd08d2a9d51f50de36055c2412
DTSTAMP:20260421T075637Z
SUMMARY:Women's Virtual Dinner and Discussion
DESCRIPTION:United Jewish Federation of Utah\nCalendar\nhttps://shalomutah.
 org/united-jewish-federation-of-utah-calendar/womens-virtual-dinner-and-di
 scussion\n\nSpeaker: Alexandra Rocco PA-C\n\nTopic: Bone Health
DTSTART;TZID=America/Denver:20210317T190000
DTEND;TZID=America/Denver:20210317T200000
END:VEVENT
END:VCALENDAR
