BEGIN:VCALENDAR
PRODID:-//eluceo/ical//2.0/EN
VERSION:2.0
CALSCALE:GREGORIAN
BEGIN:VEVENT
UID:ddfd78227cfe4e54c48aba5c34783252
DTSTAMP:20260421T150337Z
SUMMARY:Women's Virtual Dinner and Discussion
DESCRIPTION:United Jewish Federation of Utah\nCalendar\nhttps://shalomutah.
 org/united-jewish-federation-of-utah-calendar/womens-virtual-dinner-and-di
 scussion-1609439779\n\nSpeaker: Dr. April Townsend from the Utah Women and
  Leadership Project.\n\nMore details to follow
DTSTART;TZID=America/Denver:20210113T190000
DTEND;TZID=America/Denver:20210113T190000
END:VEVENT
END:VCALENDAR
