BEGIN:VCALENDAR
PRODID:-//eluceo/ical//2.0/EN
VERSION:2.0
CALSCALE:GREGORIAN
BEGIN:VEVENT
UID:6de4cd42ae4d79764912099d5ccb0f9e
DTSTAMP:20260420T121129Z
SUMMARY:Women's Virtual Dinner and Discussion
DESCRIPTION:United Jewish Federation of Utah\nCalendar\nhttps://shalomutah.
 org/united-jewish-federation-of-utah-calendar/womens-virtual-dinner-and-di
 scussion-1611948485\n\nSpeaker: Drora Oren\n\nTopic: Should Vashti and Est
 her be seen as feminist icons?
DTSTART;TZID=America/Denver:20210216T190000
DTEND;TZID=America/Denver:20210216T200000
END:VEVENT
END:VCALENDAR
