BEGIN:VCALENDAR
PRODID:-//eluceo/ical//2.0/EN
VERSION:2.0
CALSCALE:GREGORIAN
BEGIN:VEVENT
UID:b4ff8c8e12208c0f5f82d8a9d91dd44c
DTSTAMP:20260421T151239Z
SUMMARY:Women's Virtual Lunch and Learn
DESCRIPTION:United Jewish Federation of Utah\nCalendar\nhttps://shalomutah.
 org/united-jewish-federation-of-utah-calendar/womens-virtual-lunch-and-lea
 rn\n\nSpeaker: Charlie Sturgis\n\nTopic: Park City Trails
DTSTART;TZID=America/Denver:20210324T130000
DTEND;TZID=America/Denver:20210324T140000
END:VEVENT
END:VCALENDAR
