BEGIN:VCALENDAR
PRODID:-//eluceo/ical//2.0/EN
VERSION:2.0
CALSCALE:GREGORIAN
BEGIN:VEVENT
UID:32b206f9a927c5f06f6c14f2585b4094
DTSTAMP:20260422T010108Z
SUMMARY:Women's Virtual Lunch and Learn
DESCRIPTION:United Jewish Federation of Utah\nCalendar\nhttps://shalomutah.
 org/united-jewish-federation-of-utah-calendar/womens-virtual-lunch-and-lea
 rn-1612201203\n\nSpeaker: Andrea Wine\n\nTopic: Upcoming Israeli Elections
DTSTART;TZID=America/Denver:20210225T130000
DTEND;TZID=America/Denver:20210225T140000
END:VEVENT
END:VCALENDAR
