BEGIN:VCALENDAR
PRODID:-//eluceo/ical//2.0/EN
VERSION:2.0
CALSCALE:GREGORIAN
BEGIN:VEVENT
UID:82e215cf72a5cadb478162e631f22b22
DTSTAMP:20260421T150241Z
SUMMARY:Women's Virtual Lunch and Learn April 2021
DESCRIPTION:United Jewish Federation of Utah\nCalendar\nhttps://shalomutah.
 org/united-jewish-federation-of-utah-calendar/womens-virtual-lunch-and-lea
 rn-april-2021\n\nSpeaker: Mary Closser from Recycle Park City Utah\n\nBio:
  Mary Closser started her career 30 years ago as Environmental Coordinato
 r for Hunter Douglas Window Fashions in Broomfield\, CO. During this time 
 she received an MS in Environmental Management from Denver University an
 d continued on with an array of part-time jobs in the field while raising 
 her two sons. She landed in Utah eleven years ago and started with Recycle
  Utah as the Director of Education eight years ago. She spends her days...
DTSTART;TZID=America/Denver:20210428T130000
DTEND;TZID=America/Denver:20210428T140000
END:VEVENT
END:VCALENDAR
