BEGIN:VCALENDAR
PRODID:-//eluceo/ical//2.0/EN
VERSION:2.0
CALSCALE:GREGORIAN
BEGIN:VEVENT
UID:0511e20eab2446b2da94d4f1be91bcaf
DTSTAMP:20260422T154934Z
SUMMARY:Writing Through Grief
DESCRIPTION:United Jewish Federation of Utah\nCalendar\nhttps://shalomutah.
 org/united-jewish-federation-of-utah-calendar/writing-through-grief\n\nWri
 ting can help guide us toward deeper understanding of the pain and sufferi
 ng of loss. Whatever the reason for grieving—divorce\, death of a loved 
 one\, illness\, aging\, job loss\, emptynesting\, moving—this workshop i
 s designed to provide a supportive environment for participants to explore
  and honor all feelings of grief. \nWriting prompts\, exercises and readi
 ngs will offer new ways to express thoughts. Putting pen to paper gives us
  the opportunity to change perspective and transform suff...
DTSTART;TZID=America/Denver:20200226T133000
DTEND;TZID=America/Denver:20200226T153000
END:VEVENT
END:VCALENDAR
