BEGIN:VCALENDAR
PRODID:-//eluceo/ical//2.0/EN
VERSION:2.0
CALSCALE:GREGORIAN
BEGIN:VEVENT
UID:f59163617711144ee8e225a679fd278b
DTSTAMP:20260421T091611Z
SUMMARY:YJP: Friday Night Live
DESCRIPTION:United Jewish Federation of Utah\nCalendar\nhttps://shalomutah.
 org/united-jewish-federation-of-utah-calendar/yjp-friday-night-live-173620
 5702\n\n6pm - Services 7pm - Dinner Celebrating 7 years of monthly Friday 
 Night Live yjputah.com/events/fridaynightlive
DTSTART;TZID=America/Denver:20250110T180000
DTEND;TZID=America/Denver:20250110T210000
END:VEVENT
END:VCALENDAR
