BEGIN:VCALENDAR
PRODID:-//eluceo/ical//2.0/EN
VERSION:2.0
CALSCALE:GREGORIAN
BEGIN:VEVENT
UID:f694a7e566f42323710fd7aae36414d1
DTSTAMP:20260422T092637Z
SUMMARY:YJP Rosh Hashana Brisket Dinner
DESCRIPTION:United Jewish Federation of Utah\nCalendar\nhttps://shalomutah.
 org/united-jewish-federation-of-utah-calendar/yjp-rosh-hashana-brisket-din
 ner-1726007898\n\nJoin us in celebrating the New Year as we usher it in wi
 th a happy & holy hour! Let’s enjoy the drinks\, the company\, the divin
 e time which will yield much blessing in our new year followed by a sit-do
 wn Brisket Dinner!\n\nShow up and fuel your soul for an incredibly blessed
  5785. ⁣You deserve it.\n_____\nWednesday\, October 2\, 2024 – Rosh Ha
 shana Eve\n6:30 PM – Happy Hour\, Holy Hour\n6:49 PM – Candle Lighting
  & Brief Ma’ariv Service\n7:30 PM – Lavish Brisket Dinner\n_____\n\nEm
 be...
DTSTART;TZID=America/Denver:20241002T183000
DTEND;TZID=America/Denver:20241002T220000
END:VEVENT
END:VCALENDAR
