BEGIN:VCALENDAR
PRODID:-//eluceo/ical//2.0/EN
VERSION:2.0
CALSCALE:GREGORIAN
BEGIN:VEVENT
UID:1f3e1ae3324ee5f5f782e9f463894c4a
DTSTAMP:20260421T052308Z
SUMMARY:Yom Ha'atzmaut Celebration
DESCRIPTION:United Jewish Federation of Utah\nCalendar\nhttps://shalomutah.
 org/united-jewish-federation-of-utah-calendar/yom-haatzmaut-celebration\n\
 nYom Ha'atzmaut Celebration in Utah
DTSTART;TZID=America/Denver:20130421T123000
DTEND;TZID=America/Denver:20130421T143000
END:VEVENT
END:VCALENDAR
