BEGIN:VCALENDAR
PRODID:-//eluceo/ical//2.0/EN
VERSION:2.0
CALSCALE:GREGORIAN
BEGIN:VEVENT
UID:239a6b8ccdb83880278680b31bf55537
DTSTAMP:20260420T004822Z
SUMMARY:Yom Ha'atzmaut (Israel's Independance Day) Celebration
DESCRIPTION:United Jewish Federation of Utah\nCalendar\nhttps://shalomutah.
 org/united-jewish-federation-of-utah-calendar/yom-haatzmaut-israels-indepe
 ndance-day-celebration\n\nJoin us in celebrating Israel's 68th birthday wi
 th music & dancing. Activities for children and adults.
DTSTART;TZID=America/Denver:20160515T120000
DTEND;TZID=America/Denver:20160515T150000
END:VEVENT
END:VCALENDAR
