BEGIN:VCALENDAR
PRODID:-//eluceo/ical//2.0/EN
VERSION:2.0
CALSCALE:GREGORIAN
BEGIN:VEVENT
UID:75937dc7624761f019f2b14d9ab28797
DTSTAMP:20260420T033858Z
SUMMARY:Yom Hashah (Holocaust Day) Commemoration
DESCRIPTION:United Jewish Federation of Utah\nCalendar\nhttps://shalomutah.
 org/united-jewish-federation-of-utah-calendar/yom-hashah-holocaust-day-com
 memoration\n\nA special ceremony to remember the victims and the heroes of
  the Holocaust
DTSTART;TZID=America/Denver:20160505T130000
DTEND;TZID=America/Denver:20160505T150000
END:VEVENT
END:VCALENDAR
