BEGIN:VCALENDAR
PRODID:-//eluceo/ical//2.0/EN
VERSION:2.0
CALSCALE:GREGORIAN
BEGIN:VEVENT
UID:310ccd36921b6f54ab9a9e0ec00c80f1
DTSTAMP:20260420T180349Z
SUMMARY:Yom Hashoah - Holocaust Remembrance Day
DESCRIPTION:United Jewish Federation of Utah\nCalendar\nhttps://shalomutah.
 org/united-jewish-federation-of-utah-calendar/yom-hashoah---holocaust-reme
 mbrance-day-1520963414\n\nJoin the Jewish Community to remember those who 
 perished in the Holocaust.
DTSTART;TZID=America/Denver:20180412T130000
DTEND;TZID=America/Denver:20180412T150000
END:VEVENT
END:VCALENDAR
