BEGIN:VCALENDAR
PRODID:-//eluceo/ical//2.0/EN
VERSION:2.0
CALSCALE:GREGORIAN
BEGIN:VEVENT
UID:edbe023cb61c68789a53539d9114bb07
DTSTAMP:20260423T165640Z
SUMMARY:Yom Hashoah Commemoration
DESCRIPTION:United Jewish Federation of Utah\nCalendar\nhttps://shalomutah.
 org/united-jewish-federation-of-utah-calendar/yom-hashoah-commemoration\n\
 n2013 Yom Hashoah Commemoration
DTSTART;TZID=America/Denver:20130408T130000
DTEND;TZID=America/Denver:20130408T140000
END:VEVENT
END:VCALENDAR
