BEGIN:VCALENDAR
PRODID:-//eluceo/ical//2.0/EN
VERSION:2.0
CALSCALE:GREGORIAN
BEGIN:VEVENT
UID:3d98fc5b4f49d970e06825078f16a9d5
DTSTAMP:20260420T185722Z
SUMMARY:Yom Hashoah Commemoration
DESCRIPTION:United Jewish Federation of Utah\nCalendar\nhttps://shalomutah.
 org/united-jewish-federation-of-utah-calendar/yom-hashoah-commemoration-14
 90208453\n\nCeremony for Holocaust Remembrance Day.
DTSTART;TZID=America/Denver:20170424T130000
DTEND;TZID=America/Denver:20170424T143000
END:VEVENT
END:VCALENDAR
