BEGIN:VCALENDAR
PRODID:-//eluceo/ical//2.0/EN
VERSION:2.0
CALSCALE:GREGORIAN
BEGIN:VEVENT
UID:0a234c0e81cfb6175fcefce34aa969ba
DTSTAMP:20260423T150846Z
SUMMARY:Yom Hashoah Commemoration 2019
DESCRIPTION:United Jewish Federation of Utah\nCalendar\nhttps://shalomutah.
 org/united-jewish-federation-of-utah-calendar/yom-hashoah-commemoration-20
 19\n\nYom hashoah commemoration
DTSTART;TZID=America/Denver:20190502T123000
DTEND;TZID=America/Denver:20190502T143000
END:VEVENT
END:VCALENDAR
