BEGIN:VCALENDAR
PRODID:-//eluceo/ical//2.0/EN
VERSION:2.0
CALSCALE:GREGORIAN
BEGIN:VEVENT
UID:b03fd2cf6146af1ea123d086c696fc3a
DTSTAMP:20260420T215051Z
SUMMARY:Yom HaShoah Free Screening of BIG SONIA
DESCRIPTION:United Jewish Federation of Utah\nCalendar\nhttps://shalomutah.
 org/united-jewish-federation-of-utah-calendar/yom-hashoah-free-screening-o
 f-big-sonia-1522190787\n\nThis is a story — and a film — that will sur
 prise you in the best possible ways.\nIn the last store in a defunct shopp
 ing mall\, 91-year-old Sonia Warshawski — great‐grandmother\, business
 woman\, and Holocaust survivor — runs the tailor shop she’s owned for 
 more than thirty years. But when she’s served an eviction notice\, the s
 pecter of retirement prompts Sonia to revisit her harrowing past as a refu
 gee and witness to genocide. A poignant story of generational trauma and h
 ealing\,...
DTSTART;TZID=America/Denver:20180412T190000
DTEND;TZID=America/Denver:20180412T210000
END:VEVENT
END:VCALENDAR
