BEGIN:VCALENDAR
PRODID:-//eluceo/ical//2.0/EN
VERSION:2.0
CALSCALE:GREGORIAN
BEGIN:VEVENT
UID:147ba8b8877b0353d68eb5050e45104e
DTSTAMP:20260422T062457Z
SUMMARY:Yom Hashoah Holocaust Commemoration
DESCRIPTION:United Jewish Federation of Utah\nCalendar\nhttps://shalomutah.
 org/united-jewish-federation-of-utah-calendar/yom-hashoah-holocaust-commem
 oration-1586890136\n\nWe will honor our past virtually this year with a co
 mmemoration that includes Amos Guiora as our keynote speaker. A registrati
 on link will be included in this message once its available (please check 
 back)
DTSTART;TZID=America/Denver:20200421T160000
DTEND;TZID=America/Denver:20200421T170000
END:VEVENT
END:VCALENDAR
