BEGIN:VCALENDAR
PRODID:-//eluceo/ical//2.0/EN
VERSION:2.0
CALSCALE:GREGORIAN
BEGIN:VEVENT
UID:85879d37583836a2c2b9aff0ca8e8696
DTSTAMP:20260420T215549Z
SUMMARY:Yom Hashoah Holocaust Commemoration 2021
DESCRIPTION:United Jewish Federation of Utah\nCalendar\nhttps://shalomutah.
 org/united-jewish-federation-of-utah-calendar/yom-hashoah-holocaust-commem
 oration-2021\n\nUtah Jewish Community Holocaust Commemoration
DTSTART;TZID=America/Denver:20210408T130000
DTEND;TZID=America/Denver:20210408T140000
END:VEVENT
END:VCALENDAR
