BEGIN:VCALENDAR
PRODID:-//eluceo/ical//2.0/EN
VERSION:2.0
CALSCALE:GREGORIAN
BEGIN:VEVENT
UID:e2851a746f3cb45559831104fa306902
DTSTAMP:20260420T105115Z
SUMMARY:Yom Hazikaron
DESCRIPTION:United Jewish Federation of Utah\nCalendar\nhttps://shalomutah.
 org/united-jewish-federation-of-utah-calendar/yom-hazikaron-1549390790\n\n
 Movie and ceremony to commemorate Israel's Memorial Day
DTSTART;TZID=America/Denver:20190507T190000
DTEND;TZID=America/Denver:20190507T210000
END:VEVENT
END:VCALENDAR
