BEGIN:VCALENDAR
PRODID:-//eluceo/ical//2.0/EN
VERSION:2.0
CALSCALE:GREGORIAN
BEGIN:VEVENT
UID:19e5e8f48e3c6519baee37cec9b35561
DTSTAMP:20260420T120359Z
SUMMARY:Yom HaZikaron Commemoration
DESCRIPTION:United Jewish Federation of Utah\nCalendar\nhttps://shalomutah.
 org/united-jewish-federation-of-utah-calendar/yom-hazikaron-22025\n\nYom H
 aZikaron is Israel's remembrance day. Held one day before the celebration 
 of Israel's independence\, the day honors fallen soldiers and victims of a
 ctions of terrorism. With Israel still at war and 59 hostages still being 
 held in Gaza\, the years's commemoration has great significance and meanin
 g. 
DTSTART;TZID=America/Denver:20250429T180000
DTEND;TZID=America/Denver:20250429T200000
END:VEVENT
END:VCALENDAR
