BEGIN:VCALENDAR
PRODID:-//eluceo/ical//2.0/EN
VERSION:2.0
CALSCALE:GREGORIAN
BEGIN:VEVENT
UID:078ce463e638289988dae11856e4d5f6
DTSTAMP:20260422T022055Z
SUMMARY:Yom Hazikaron Movie Night - One Night in Antsariya.
DESCRIPTION:United Jewish Federation of Utah\nCalendar\nhttps://shalomutah.
 org/united-jewish-federation-of-utah-calendar/yom-hazikaron-movie-night---
 one-night-in-antsariya-1520962996\n\n7 PM: Film clip of Israel on Yom Hazi
 karon\, 3 min\n7:10 PM: ONE NIGHT IN ANZERIA - A story of fearless determi
 nation and resilience \n2017\, Israel | Hebrew with English subtitles | 70
  minutes\n8:20 PM: Q & A with Ehud Ardon\, former Israeli Navy Seal.
DTSTART;TZID=America/Denver:20180417T190000
DTEND;TZID=America/Denver:20180417T210000
END:VEVENT
END:VCALENDAR
