BEGIN:VCALENDAR
PRODID:-//eluceo/ical//2.0/EN
VERSION:2.0
CALSCALE:GREGORIAN
BEGIN:VEVENT
UID:fbea9b207676cbe49720bd9e76851268
DTSTAMP:20260421T025045Z
SUMMARY:Yom Kippur
DESCRIPTION:United Jewish Federation of Utah\nCalendar\nhttps://shalomutah.
 org/united-jewish-federation-of-utah-calendar/yom-kippur-1536089041\n\nJoi
 n us for Yom Kippur morning services led by Student Rabbi Sam Stern.
DTSTART;TZID=America/Denver:20180919T093000
DTEND;TZID=America/Denver:20180919T113000
END:VEVENT
END:VCALENDAR
