BEGIN:VCALENDAR
PRODID:-//eluceo/ical//2.0/EN
VERSION:2.0
CALSCALE:GREGORIAN
BEGIN:VEVENT
UID:5176cb1422415456b75f097b21363288
DTSTAMP:20260422T035549Z
SUMMARY:Zikaron BaSalon
DESCRIPTION:United Jewish Federation of Utah\nCalendar\nhttps://shalomutah.
 org/united-jewish-federation-of-utah-calendar/zikaron-basalon-1608842197\n
 \nSpeaker: Ida Yoked\n\nMusic: Elana Fauth\n\nSpecial Introduction: Drora 
 Oren
DTSTART;TZID=America/Denver:20210125T190000
DTEND;TZID=America/Denver:20210125T200000
END:VEVENT
END:VCALENDAR
