BEGIN:VCALENDAR
PRODID:-//eluceo/ical//2.0/EN
VERSION:2.0
CALSCALE:GREGORIAN
BEGIN:VEVENT
UID:c33f27d9e8cac18346ed860a5ac969bf
DTSTAMP:20260421T152043Z
SUMMARY:Zoom Passover Baking
DESCRIPTION:United Jewish Federation of Utah\nCalendar\nhttps://shalomutah.
 org/united-jewish-federation-of-utah-calendar/zoom-passover-baking\n\nJoin
  us on Zoom for Passover baking! 
DTSTART;TZID=America/Denver:20250331T190000
DTEND;TZID=America/Denver:20250331T210000
END:VEVENT
END:VCALENDAR
